BEGIN:VCALENDAR
VERSION:2.0
PRODID:-//Sustainable Agriculture &amp; Food Systems Funders - ECPv6.15.17//NONSGML v1.0//EN
CALSCALE:GREGORIAN
METHOD:PUBLISH
X-ORIGINAL-URL:https://www.agandfoodfunders.org
X-WR-CALDESC:Events for Sustainable Agriculture &amp; Food Systems Funders
REFRESH-INTERVAL;VALUE=DURATION:PT1H
X-Robots-Tag:noindex
X-PUBLISHED-TTL:PT1H
BEGIN:VTIMEZONE
TZID:America/Los_Angeles
BEGIN:DAYLIGHT
TZOFFSETFROM:-0800
TZOFFSETTO:-0700
TZNAME:PDT
DTSTART:20250309T100000
END:DAYLIGHT
BEGIN:STANDARD
TZOFFSETFROM:-0700
TZOFFSETTO:-0800
TZNAME:PST
DTSTART:20251102T090000
END:STANDARD
BEGIN:DAYLIGHT
TZOFFSETFROM:-0800
TZOFFSETTO:-0700
TZNAME:PDT
DTSTART:20260308T100000
END:DAYLIGHT
BEGIN:STANDARD
TZOFFSETFROM:-0700
TZOFFSETTO:-0800
TZNAME:PST
DTSTART:20261101T090000
END:STANDARD
BEGIN:DAYLIGHT
TZOFFSETFROM:-0800
TZOFFSETTO:-0700
TZNAME:PDT
DTSTART:20270314T100000
END:DAYLIGHT
BEGIN:STANDARD
TZOFFSETFROM:-0700
TZOFFSETTO:-0800
TZNAME:PST
DTSTART:20271107T090000
END:STANDARD
END:VTIMEZONE
BEGIN:VEVENT
DTSTART;TZID=America/Los_Angeles:20260825T150000
DTEND;TZID=America/Los_Angeles:20260825T160000
DTSTAMP:20260422T023359
CREATED:20260225T195947Z
LAST-MODIFIED:20260225T200156Z
UID:10000751-1787670000-1787673600@www.agandfoodfunders.org
SUMMARY:Maximize Your Membership
DESCRIPTION:Maximize Your Membership is an orientation webinar for SAFSF members\, new and veteran! If you are new staff at a new or long-time SAFSF member organization\, have not engaged in SAFSF programming or member benefits yet yourself\, want a refresher on all that is available to you as a SAFSF member organization\, or just want to connect\, join us! \n\n\n\nThis quarterly membership call features our newest SAFSF members  – help us welcome them into this community. Join Clare Fox\, Executive Director\, and Holly Hanes\, Senior Membership Associate\, for a deep dive into all things SAFSF\, including: \n\n\n\n\nCelebrating & sharing your membership internally and externally;\n\n\n\nMember Perks – including the annual Forum\, exclusive offerings\, and Learning Communities; \n\n\n\nHow to access your SAFSF benefits; \n\n\n\nSAFSF Professional and Leadership Development Pathways; \n\n\n\nTools and resources available to you; \n\n\n\nEvent Preview \n\n\n\n\nThis energizing conversation will excite you for the quarter ahead and expose you to one (or many!) benefits of membership that you were not utilizing to help in maximizing your SAFSF experience. Meet other members\, learn the SAFSF processes\, and get engaged! This event is a free\, SAFSF member only event. Interested in SAFSF membership? Email us. \n\n\n\n\n\n\nTo register for this program\, you must be logged in and a member of SAFSF. \nPlease log in or register for an account.
URL:https://www.agandfoodfunders.org/event/maximize-your-membership-5/
CATEGORIES:Webinars
ATTACH;FMTTYPE=image/png:https://www.agandfoodfunders.org/wp-content/uploads/2023/09/315796b3-2f37-e31b-b026-37d8c833ffa5-1-1.png
END:VEVENT
BEGIN:VEVENT
DTSTART;TZID=America/Los_Angeles:20261029T100000
DTEND;TZID=America/Los_Angeles:20261029T110000
DTSTAMP:20260422T023359
CREATED:20251210T193038Z
LAST-MODIFIED:20251211T190339Z
UID:10000728-1793268000-1793271600@www.agandfoodfunders.org
SUMMARY:Movement-Aligned Funding Learning Community
DESCRIPTION:Systems change requires a deliberate shift in power. In a landscape where the industrial\, consolidated\, and corporate food system is well-funded\, deeply entrenched\, and politically coordinated\, community-led movements must be equally robust—supported with consistent resources\, strong social infrastructure\, and long-term investment. \n\n\n\nShifting power means centering and following the leadership of those most affected by injustice—Black\, Indigenous\, and People of Color; immigrants; workers; 2SLGBTQIA+ people; women; disabled\, low-income\, poor\, and other urban and rural marginalized communities. Movements for food justice and food sovereignty need sustained investment in the organizing\, coalition-building\, and leadership development that enable communities to build and wield power over time. \n\n\n\nThis requires resources that are distributed nationally\, regionally\, and locally to support base building\, advocacy\, and community-led interventions across local\, state\, Tribal\, and national scales. Social and structural change is only possible when communities have the time\, infrastructure\, and capacity to organize—not just react. \n\n\n\nFunders play a critical role in supporting this work. To be “movement-aligned\,” funders must adapt practices and priorities to the values and leadership of frontline communities. This includes trusting community governance\, supporting grassroots leadership\, sharing decision-making power\, and shifting traditional funder prerogatives—even when it is uncomfortable. \n\n\n\n\n\n\n\nWho Is This For?\n\n\n\nThis quarterly\, peer-led Learning Community is open to all SAFSF members. It is a space for honest dialogue\, where funders can share practices\, mistakes\, uncertainties\, and lessons learned with a shared intention of improving accountability to the communities most impacted by food system injustice. \n\n\n\nWe will read short pieces together and periodically invite movement leaders to ground the conversation. However\, this is not a curriculum-based or exhaustive learning space\, and we recognize that funders must seek learning directly\, in non-extractive ways\, from grassroots organizations and frontline leaders beyond this setting. Rather\, this Learning Community is designed to help funders learn about the principles and mechanics of movement building and do the internal work to be an effective ally.  \n\n\n\nAll SAFSF members are welcome\, and we especially encourage funders who are newer to movement-building or movement-aligned grantmaking or investing to participate. \n\n\n\n\n\n\n\nWhy a Funder-Only Learning Community on Movement-Aligned Funding?\n\n\n\nThis space is intentionally designed for funders because: \n\n\n\n\nFunders need a place to build internal discipline and accountability without placing additional burdens on movement leaders to constantly educate them.\n\n\n\nFunders must examine their own power\, habits\, and practices—work that often requires internal organizing and strategy alignment.\n\n\n\nFunders need to be prepared before meaningfully engaging with movement partners\, so that conversations with frontline leaders are not extractive\, repetitive\, or centering funder needs.\n\n\n\nThis learning community complements—not replaces—direct engagement with movement organizations. The core purpose is to strengthen funders’ readiness to show up better in those relationships.\n\n\n\n\nOur intention is to help funders transform their practices to be accountable partners in multiracial\, frontline-led movements\, not to create a bubble where funders only talk to funders. \n\n\n\n\n\n\n\nLearning Community Goals\n\n\n\n\nLearn about principles of long-term movement building for systems change from experienced practitioners and through the examination of successful examples in food systems context.\n\n\n\nBetter understand investment needs and funding practices that center the leadership of impacted communities\, support movement building\, and community-led food systems transformation.\n\n\n\nLearn and exchange best practices to increase frontline and grassroots organizations’ capacity (e.g.\, time\, financial resources\, communications infrastructure) so they can build leadership and power within the broader movement ecosystem.\n\n\n\nExplore the importance of organizing across the capital spectrum and across different issue areas (e.g.\, health\, food\, climate\, environment) in alignment with frontline communities of color and movement organizations.\n\n\n\n\n\n\n\n\nBackground and Details \n\n\n\n\nThe idea for this new Learning Community came from two SAFSF Members— Chicago Food Policy Action Council and Michigan State University’s Center for Regional Food Systems—and follows a networking session with both funders and practitioners at the SAFSF Forum in 2025. \n\n\n\n\n\nCalls will not be recorded to facilitate more transparent conversations. \n\n\n\n\n\nPre-meeting reading materials will be shared in advance. \n\n\n\n\n\nWe highly encourage you to attend all sessions in the series to stay connected with your colleagues and incorporate learnings into your work throughout the year\, but you are welcome to join at any point. \n\n\n\n\n\n\n\n\nThis is a SAFSF member-only series. If you are interested in exploring membership\, please contact our membership team. \n\n\n\n\n\n\nTo register for this learning community\, you must be logged in and a member of SAFSF. \nPlease log in or register for an account.
URL:https://www.agandfoodfunders.org/event/movement-aligned-funding-learning-community-4/
CATEGORIES:Learning Community,Member Only
ATTACH;FMTTYPE=image/jpeg:https://www.agandfoodfunders.org/wp-content/uploads/2025/12/SAFSF-20250511-3100-scaled.jpg
END:VEVENT
BEGIN:VEVENT
DTSTART;TZID=America/Los_Angeles:20261210T100000
DTEND;TZID=America/Los_Angeles:20261210T110000
DTSTAMP:20260422T023359
CREATED:20251210T193226Z
LAST-MODIFIED:20251211T192232Z
UID:10000729-1796896800-1796900400@www.agandfoodfunders.org
SUMMARY:Movement-Aligned Funding Learning Community
DESCRIPTION:Systems change requires a deliberate shift in power. In a landscape where the industrial\, consolidated\, and corporate food system is well-funded\, deeply entrenched\, and politically coordinated\, community-led movements must be equally robust—supported with consistent resources\, strong social infrastructure\, and long-term investment. \n\n\n\nShifting power means centering and following the leadership of those most affected by injustice—Black\, Indigenous\, and People of Color; immigrants; workers; 2SLGBTQIA+ people; women; disabled\, low-income\, poor\, and other urban and rural marginalized communities. Movements for food justice and food sovereignty need sustained investment in the organizing\, coalition-building\, and leadership development that enable communities to build and wield power over time. \n\n\n\nThis requires resources that are distributed nationally\, regionally\, and locally to support base building\, advocacy\, and community-led interventions across local\, state\, Tribal\, and national scales. Social and structural change is only possible when communities have the time\, infrastructure\, and capacity to organize—not just react. \n\n\n\nFunders play a critical role in supporting this work. To be “movement-aligned\,” funders must adapt practices and priorities to the values and leadership of frontline communities. This includes trusting community governance\, supporting grassroots leadership\, sharing decision-making power\, and shifting traditional funder prerogatives—even when it is uncomfortable. \n\n\n\n\n\n\n\nWho Is This For?\n\n\n\nThis quarterly\, peer-led Learning Community is open to all SAFSF members. It is a space for honest dialogue\, where funders can share practices\, mistakes\, uncertainties\, and lessons learned with a shared intention of improving accountability to the communities most impacted by food system injustice. \n\n\n\nWe will read short pieces together and periodically invite movement leaders to ground the conversation. However\, this is not a curriculum-based or exhaustive learning space\, and we recognize that funders must seek learning directly\, in non-extractive ways\, from grassroots organizations and frontline leaders beyond this setting. Rather\, this Learning Community is designed to help funders learn about the principles and mechanics of movement building and do the internal work to be an effective ally.  \n\n\n\nAll SAFSF members are welcome\, and we especially encourage funders who are newer to movement-building or movement-aligned grantmaking or investing to participate. \n\n\n\n\n\n\n\nWhy a Funder-Only Learning Community on Movement-Aligned Funding?\n\n\n\nThis space is intentionally designed for funders because: \n\n\n\n\nFunders need a place to build internal discipline and accountability without placing additional burdens on movement leaders to constantly educate them.\n\n\n\nFunders must examine their own power\, habits\, and practices—work that often requires internal organizing and strategy alignment.\n\n\n\nFunders need to be prepared before meaningfully engaging with movement partners\, so that conversations with frontline leaders are not extractive\, repetitive\, or centering funder needs.\n\n\n\nThis learning community complements—not replaces—direct engagement with movement organizations. The core purpose is to strengthen funders’ readiness to show up better in those relationships.\n\n\n\n\nOur intention is to help funders transform their practices to be accountable partners in multiracial\, frontline-led movements\, not to create a bubble where funders only talk to funders. \n\n\n\n\n\n\n\nLearning Community Goals\n\n\n\n\nLearn about principles of long-term movement building for systems change from experienced practitioners and through the examination of successful examples in food systems context.\n\n\n\nBetter understand investment needs and funding practices that center the leadership of impacted communities\, support movement building\, and community-led food systems transformation.\n\n\n\nLearn and exchange best practices to increase frontline and grassroots organizations’ capacity (e.g.\, time\, financial resources\, communications infrastructure) so they can build leadership and power within the broader movement ecosystem.\n\n\n\nExplore the importance of organizing across the capital spectrum and across different issue areas (e.g.\, health\, food\, climate\, environment) in alignment with frontline communities of color and movement organizations.\n\n\n\n\n\n\n\n\nBackground and Details \n\n\n\n\nThe idea for this new Learning Community came from two SAFSF Members— Chicago Food Policy Action Council and Michigan State University’s Center for Regional Food Systems—and follows a networking session with both funders and practitioners at the SAFSF Forum in 2025. \n\n\n\n\n\nCalls will not be recorded to facilitate more transparent conversations. \n\n\n\n\n\nPre-meeting reading materials will be shared in advance. \n\n\n\n\n\nWe highly encourage you to attend all sessions in the series to stay connected with your colleagues and incorporate learnings into your work throughout the year\, but you are welcome to join at any point. \n\n\n\n\n\n\n\n\nThis is a SAFSF member-only series. If you are interested in exploring membership\, please contact our membership team. \n\n\n\n\n\n\nTo register for this learning community\, you must be logged in and a member of SAFSF. \nPlease log in or register for an account.
URL:https://www.agandfoodfunders.org/event/movement-aligned-funding-learning-community-5/
CATEGORIES:Learning Community,Member Only
ATTACH;FMTTYPE=image/jpeg:https://www.agandfoodfunders.org/wp-content/uploads/2025/12/SAFSF-20250511-3100-scaled.jpg
END:VEVENT
BEGIN:VEVENT
DTSTART;TZID=America/Los_Angeles:20261216T150000
DTEND;TZID=America/Los_Angeles:20261216T160000
DTSTAMP:20260422T023359
CREATED:20260225T200119Z
LAST-MODIFIED:20260225T200120Z
UID:10000752-1797433200-1797436800@www.agandfoodfunders.org
SUMMARY:Maximize Your Membership
DESCRIPTION:Maximize Your Membership is an orientation webinar for SAFSF members\, new and veteran! If you are new staff at a new or long-time SAFSF member organization\, have not engaged in SAFSF programming or member benefits yet yourself\, want a refresher on all that is available to you as a SAFSF member organization\, or just want to connect\, join us! \n\n\n\nThis quarterly membership call features our newest SAFSF members  – help us welcome them into this community. Join Clare Fox\, Executive Director\, and Holly Hanes\, Senior Membership Associate\, for a deep dive into all things SAFSF\, including: \n\n\n\n\nCelebrating & sharing your membership internally and externally;\n\n\n\nMember Perks – including the annual Forum\, exclusive offerings\, and Learning Communities; \n\n\n\nHow to access your SAFSF benefits; \n\n\n\nSAFSF Professional and Leadership Development Pathways; \n\n\n\nTools and resources available to you; \n\n\n\nEvent Preview \n\n\n\n\nThis energizing conversation will excite you for the quarter ahead and expose you to one (or many!) benefits of membership that you were not utilizing to help in maximizing your SAFSF experience. Meet other members\, learn the SAFSF processes\, and get engaged! This event is a free\, SAFSF member only event. Interested in SAFSF membership? Email us. \n\n\n\n\n\n\nTo register for this program\, you must be logged in and a member of SAFSF. \nPlease log in or register for an account.
URL:https://www.agandfoodfunders.org/event/maximize-your-membership-6/
CATEGORIES:Webinars
ATTACH;FMTTYPE=image/png:https://www.agandfoodfunders.org/wp-content/uploads/2023/09/315796b3-2f37-e31b-b026-37d8c833ffa5-1-1.png
END:VEVENT
END:VCALENDAR